BEGIN:VCALENDAR
VERSION:2.0
PRODID:-//Destiny Bridge Academy - ECPv6.15.20//NONSGML v1.0//EN
CALSCALE:GREGORIAN
METHOD:PUBLISH
X-ORIGINAL-URL:https://destinybridge.com
X-WR-CALDESC:Events for Destiny Bridge Academy
REFRESH-INTERVAL;VALUE=DURATION:PT1H
X-Robots-Tag:noindex
X-PUBLISHED-TTL:PT1H
BEGIN:VTIMEZONE
TZID:UTC
BEGIN:STANDARD
TZOFFSETFROM:+0000
TZOFFSETTO:+0000
TZNAME:UTC
DTSTART:20220101T000000
END:STANDARD
END:VTIMEZONE
BEGIN:VTIMEZONE
TZID:Africa/Nairobi
BEGIN:STANDARD
TZOFFSETFROM:+0300
TZOFFSETTO:+0300
TZNAME:EAT
DTSTART:20220101T000000
END:STANDARD
END:VTIMEZONE
BEGIN:VEVENT
DTSTART;VALUE=DATE:20240306
DTEND;VALUE=DATE:20240307
DTSTAMP:20260422T144815
CREATED:20230228T043047Z
LAST-MODIFIED:20230303T143947Z
UID:2115-1709683200-1709769599@destinybridge.com
SUMMARY:First Term Opens
DESCRIPTION:
URL:https://destinybridge.com/event/christmas-carols/
LOCATION:Destiny Bridge Academy\, Destiny Avenue Destiny Hill (Ku Destiny)\, Wakiso Town Council\, Uganda
ATTACH;FMTTYPE=image/jpeg:https://destinybridge.com/wp-content/uploads/2023/02/slidesmal02.jpg
END:VEVENT
BEGIN:VEVENT
DTSTART;VALUE=DATE:20231201
DTEND;VALUE=DATE:20231202
DTSTAMP:20260422T144815
CREATED:20230303T143524Z
LAST-MODIFIED:20230303T143933Z
UID:2256-1701388800-1701475199@destinybridge.com
SUMMARY:Third Term Closes
DESCRIPTION:
URL:https://destinybridge.com/event/third-term-closes/
LOCATION:Destiny Bridge Academy\, Destiny Avenue Destiny Hill (Ku Destiny)\, Wakiso Town Council\, Uganda
ATTACH;FMTTYPE=image/jpeg:https://destinybridge.com/wp-content/uploads/2023/02/slidesmal03.jpg
END:VEVENT
BEGIN:VEVENT
DTSTART;VALUE=DATE:20230918
DTEND;VALUE=DATE:20230919
DTSTAMP:20260422T144815
CREATED:20230303T142844Z
LAST-MODIFIED:20230303T143930Z
UID:2254-1694995200-1695081599@destinybridge.com
SUMMARY:Third Term Opens
DESCRIPTION:
URL:https://destinybridge.com/event/third-term-opens/
LOCATION:Destiny Bridge Academy\, Destiny Avenue Destiny Hill (Ku Destiny)\, Wakiso Town Council\, Uganda
ATTACH;FMTTYPE=image/jpeg:https://destinybridge.com/wp-content/uploads/2023/02/IMG-20220516-WA0104.jpg
END:VEVENT
BEGIN:VEVENT
DTSTART;VALUE=DATE:20230825
DTEND;VALUE=DATE:20230826
DTSTAMP:20260422T144815
CREATED:20230303T142751Z
LAST-MODIFIED:20230303T143927Z
UID:2252-1692921600-1693007999@destinybridge.com
SUMMARY:Second Term Closes
DESCRIPTION:
URL:https://destinybridge.com/event/second-term-closes/
LOCATION:Destiny Bridge Academy\, Destiny Avenue Destiny Hill (Ku Destiny)\, Wakiso Town Council\, Uganda
ATTACH;FMTTYPE=image/jpeg:https://destinybridge.com/wp-content/uploads/2023/02/IMG_6092.jpg
END:VEVENT
BEGIN:VEVENT
DTSTART;VALUE=DATE:20230529
DTEND;VALUE=DATE:20230530
DTSTAMP:20260422T144815
CREATED:20230303T142655Z
LAST-MODIFIED:20230303T143922Z
UID:2250-1685318400-1685404799@destinybridge.com
SUMMARY:Second Term Opens
DESCRIPTION:
URL:https://destinybridge.com/event/second-term-opens/
LOCATION:Destiny Bridge Academy\, Destiny Avenue Destiny Hill (Ku Destiny)\, Wakiso Town Council\, Uganda
ATTACH;FMTTYPE=image/jpeg:https://destinybridge.com/wp-content/uploads/2023/02/3H8A7744.jpg
END:VEVENT
BEGIN:VEVENT
DTSTART;VALUE=DATE:20230505
DTEND;VALUE=DATE:20230506
DTSTAMP:20260422T144815
CREATED:20230303T142621Z
LAST-MODIFIED:20230303T143916Z
UID:2248-1683244800-1683331199@destinybridge.com
SUMMARY:First term closes
DESCRIPTION:
URL:https://destinybridge.com/event/first-term-closes/
LOCATION:Destiny Bridge Academy\, Destiny Avenue Destiny Hill (Ku Destiny)\, Wakiso Town Council\, Uganda
ATTACH;FMTTYPE=image/jpeg:https://destinybridge.com/wp-content/uploads/2023/02/B28A0277.jpg
END:VEVENT
BEGIN:VEVENT
DTSTART;VALUE=DATE:20230424
DTEND;VALUE=DATE:20230426
DTSTAMP:20260422T144815
CREATED:20230303T142521Z
LAST-MODIFIED:20230303T143913Z
UID:2246-1682294400-1682467199@destinybridge.com
SUMMARY:Term exams
DESCRIPTION:
URL:https://destinybridge.com/event/term-exams/
LOCATION:Destiny Bridge Academy\, Destiny Avenue Destiny Hill (Ku Destiny)\, Wakiso Town Council\, Uganda
ATTACH;FMTTYPE=image/jpeg:https://destinybridge.com/wp-content/uploads/2023/02/Slide05.jpg
END:VEVENT
BEGIN:VEVENT
DTSTART;VALUE=DATE:20230328
DTEND;VALUE=DATE:20230329
DTSTAMP:20260422T144815
CREATED:20230303T142412Z
LAST-MODIFIED:20230303T143910Z
UID:2244-1679961600-1680047999@destinybridge.com
SUMMARY:Sports Day
DESCRIPTION:
URL:https://destinybridge.com/event/sports-day-2/
LOCATION:Destiny Bridge Academy\, Destiny Avenue Destiny Hill (Ku Destiny)\, Wakiso Town Council\, Uganda
ATTACH;FMTTYPE=image/jpeg:https://destinybridge.com/wp-content/uploads/2023/02/F8A2152.jpg
END:VEVENT
BEGIN:VEVENT
DTSTART;VALUE=DATE:20230325
DTEND;VALUE=DATE:20230326
DTSTAMP:20260422T144815
CREATED:20230303T142323Z
LAST-MODIFIED:20230303T143907Z
UID:2242-1679702400-1679788799@destinybridge.com
SUMMARY:Visitation Day (Parents invited)
DESCRIPTION:
URL:https://destinybridge.com/event/visitation-day-parents-invited/
ATTACH;FMTTYPE=image/jpeg:https://destinybridge.com/wp-content/uploads/2023/02/IMG-20220516-WA0094.jpg
END:VEVENT
BEGIN:VEVENT
DTSTART;VALUE=DATE:20230317
DTEND;VALUE=DATE:20230318
DTSTAMP:20260422T144815
CREATED:20230228T042701Z
LAST-MODIFIED:20230303T144010Z
UID:2112-1679011200-1679097599@destinybridge.com
SUMMARY:Class Day
DESCRIPTION:
URL:https://destinybridge.com/event/sports-day/
LOCATION:Destiny Bridge Academy\, Destiny Avenue Destiny Hill (Ku Destiny)\, Wakiso Town Council\, Uganda
ATTACH;FMTTYPE=image/jpeg:https://destinybridge.com/wp-content/uploads/2023/02/20221125_081442.jpg
END:VEVENT
BEGIN:VEVENT
DTSTART;VALUE=DATE:20230309
DTEND;VALUE=DATE:20230310
DTSTAMP:20260422T144815
CREATED:20230228T043349Z
LAST-MODIFIED:20230303T143959Z
UID:2117-1678320000-1678406399@destinybridge.com
SUMMARY:Mid-Term exams
DESCRIPTION:
URL:https://destinybridge.com/event/kindergarten-graduation/
LOCATION:Destiny Bridge Academy\, Destiny Avenue Destiny Hill (Ku Destiny)\, Wakiso Town Council\, Uganda
ATTACH;FMTTYPE=image/jpeg:https://destinybridge.com/wp-content/uploads/2023/02/IMG-20220516-WA0101.jpg
END:VEVENT
END:VCALENDAR