BEGIN:VCALENDAR
VERSION:2.0
PRODID:-//Destiny Bridge Academy - ECPv6.15.20//NONSGML v1.0//EN
CALSCALE:GREGORIAN
METHOD:PUBLISH
X-WR-CALNAME:Destiny Bridge Academy
X-ORIGINAL-URL:https://destinybridge.com
X-WR-CALDESC:Events for Destiny Bridge Academy
REFRESH-INTERVAL;VALUE=DURATION:PT1H
X-Robots-Tag:noindex
X-PUBLISHED-TTL:PT1H
BEGIN:VTIMEZONE
TZID:UTC
BEGIN:STANDARD
TZOFFSETFROM:+0000
TZOFFSETTO:+0000
TZNAME:UTC
DTSTART:20220101T000000
END:STANDARD
END:VTIMEZONE
BEGIN:VEVENT
DTSTART;VALUE=DATE:20230309
DTEND;VALUE=DATE:20230310
DTSTAMP:20260422T163143
CREATED:20230228T043349Z
LAST-MODIFIED:20230303T143959Z
UID:2117-1678320000-1678406399@destinybridge.com
SUMMARY:Mid-Term exams
DESCRIPTION:
URL:https://destinybridge.com/event/kindergarten-graduation/
LOCATION:Destiny Bridge Academy\, Destiny Avenue Destiny Hill (Ku Destiny)\, Wakiso Town Council\, Uganda
ATTACH;FMTTYPE=image/jpeg:https://destinybridge.com/wp-content/uploads/2023/02/IMG-20220516-WA0101.jpg
END:VEVENT
END:VCALENDAR